BEGIN:VCALENDAR
VERSION:2.0
METHOD:PUBLISH
CALSCALE:GREGORIAN
PRODID:-//Refresh Web Development//Helios Calendar//EN
X-FROM-URL:https://www.bayareascience.org/calendar/index.php?com=details&eID=31068
X-WR-RELCALID:BayAreaScience.org Chemogenetic and optogenetic technologies for probing molecular and cellular networks 20210920T160000
X-WR-TIMEZONE:America/New_York
X-WR-CALNAME:BayAreaScience.org
BEGIN:VEVENT
URL;VALUE=URI:https://www.bayareascience.org/calendar/index.php?com=detail&eID=31068
DTSTART:20210920T160000
DTEND:20210920T170000
SUMMARY:Chemogenetic and optogenetic technologies for probing molecular and cellular networks
DESCRIPTION:I will describe recent work on scalable\, single-cell molecular recorders of past cellular events\; proximity labeling for the study of protein trafficking and RNA binding proteins\; and other molecular...\n______________________________\nThis Event Downloaded From a Helios Calendar Powered Site
LOCATION:Stanley Hall - UC Berkeley Room 105\, Berkeley\, CA  94720
CATEGORIES:BayAreaScience.org Events
PRIORITY:0
TRANSP:TRANSPARENT
END:VEVENT
END:VCALENDAR