BEGIN:VCALENDAR
VERSION:2.0
METHOD:PUBLISH
CALSCALE:GREGORIAN
PRODID:-//Refresh Web Development//Helios Calendar//EN
X-FROM-URL:https://www.bayareascience.org/calendar/index.php?com=details&eID=31070
X-WR-RELCALID:BayAreaScience.org Past, Present, and Future Indigenous Land Stewardship in the Tolay Valley - Livestream 20211016T100000
X-WR-TIMEZONE:America/New_York
X-WR-CALNAME:BayAreaScience.org
BEGIN:VEVENT
URL;VALUE=URI:https://www.bayareascience.org/calendar/index.php?com=detail&eID=31070
DTSTART:20211016T100000
DTEND:20211016T110000
SUMMARY:Past\, Present\, and Future Indigenous Land Stewardship in the Tolay Valley - Livestream
DESCRIPTION:The focus of Dr. Peter Nelsonâ€™s talk will be on his work with the Federated Indians of Graton Rancheria and Sonoma County Regional Parks Department to reconstruct the precontact environment...\n______________________________\nThis Event Downloaded From a Helios Calendar Powered Site
LOCATION:Audubon Canyon Ranch -  \, \, CA  
CATEGORIES:BayAreaScience.org Events
PRIORITY:0
TRANSP:TRANSPARENT
END:VEVENT
END:VCALENDAR