BEGIN:VCALENDAR
VERSION:2.0
METHOD:PUBLISH
CALSCALE:GREGORIAN
PRODID:-//Refresh Web Development//Helios Calendar//EN
X-FROM-URL:https://www.bayareascience.org/calendar/index.php?com=details&eID=31071
X-WR-RELCALID:BayAreaScience.org Temperature-Driven Disease Outbreaks Impact Oyster Aquaculture in Tomales Bay - Livestream 20211109T100000
X-WR-TIMEZONE:America/New_York
X-WR-CALNAME:BayAreaScience.org
BEGIN:VEVENT
URL;VALUE=URI:https://www.bayareascience.org/calendar/index.php?com=detail&eID=31071
DTSTART:20211109T100000
DTEND:20211109T110000
SUMMARY:Temperature-Driven Disease Outbreaks Impact Oyster Aquaculture in Tomales Bay - Livestream
DESCRIPTION:The talk will focus on Priya Shuklaâ€™s PhD research which is a collaboration with the Hog Island and Tomales Bay Oyster Companies to develop strategies for improving oystersâ€™ ability...\n______________________________\nThis Event Downloaded From a Helios Calendar Powered Site
LOCATION:Audubon Canyon Ranch -  \, \, CA  
CATEGORIES:BayAreaScience.org Events
PRIORITY:0
TRANSP:TRANSPARENT
END:VEVENT
END:VCALENDAR