BEGIN:VCALENDAR
VERSION:2.0
METHOD:PUBLISH
CALSCALE:GREGORIAN
PRODID:-//Refresh Web Development//Helios Calendar//EN
X-FROM-URL:https://www.bayareascience.org/calendar/index.php?com=details&eID=31073
X-WR-RELCALID:BayAreaScience.org Investigating thermodynamic properties of correlated electronic phases in graphene by chemical potential measurements - Livestream 20210913T100000
X-WR-TIMEZONE:America/New_York
X-WR-CALNAME:BayAreaScience.org
BEGIN:VEVENT
URL;VALUE=URI:https://www.bayareascience.org/calendar/index.php?com=detail&eID=31073
DTSTART:20210913T100000
DTEND:20210913T100000
SUMMARY:Investigating thermodynamic properties of correlated electronic phases in graphene by chemical potential measurements - Livestream
DESCRIPTION:Strong electronic interactions in narrow electronic bands give rise to emergent phases such as fractional quantum Hall (FQH) states\, charge density waves\, and magnetism. Quantitative understanding...\n______________________________\nThis Event Downloaded From a Helios Calendar Powered Site
LOCATION:UC Berkeley -  \, \, CA  
CATEGORIES:BayAreaScience.org Events
PRIORITY:0
TRANSP:TRANSPARENT
END:VEVENT
END:VCALENDAR