BEGIN:VCALENDAR
VERSION:2.0
METHOD:PUBLISH
CALSCALE:GREGORIAN
PRODID:-//Refresh Web Development//Helios Calendar//EN
X-FROM-URL:https://www.bayareascience.org/calendar/index.php?com=details&eID=31077
X-WR-RELCALID:BayAreaScience.org Cosmic alchemy in the era of gravitational wave astronomy  - Livestream 20210920T161500
X-WR-TIMEZONE:America/New_York
X-WR-CALNAME:BayAreaScience.org
BEGIN:VEVENT
URL;VALUE=URI:https://www.bayareascience.org/calendar/index.php?com=detail&eID=31077
DTSTART:20210920T161500
DTEND:20210920T171500
SUMMARY:Cosmic alchemy in the era of gravitational wave astronomy  - Livestream
DESCRIPTION:The source of about half of the heaviest elements in the Universe has been a mystery for a long time. Although the general picture of element formation is well understood\, many questions about...\n______________________________\nThis Event Downloaded From a Helios Calendar Powered Site
LOCATION:UC Berkeley -  \, \, CA  
CATEGORIES:BayAreaScience.org Events
PRIORITY:0
TRANSP:TRANSPARENT
END:VEVENT
END:VCALENDAR