BEGIN:VCALENDAR
VERSION:2.0
METHOD:PUBLISH
CALSCALE:GREGORIAN
PRODID:-//Refresh Web Development//Helios Calendar//EN
X-FROM-URL:https://www.bayareascience.org/calendar/index.php?com=details&eID=31078
X-WR-RELCALID:BayAreaScience.org  Characterizing mesoscopic antiferromagnetic domains in the dilute limit with coherent x-ray diffraction - Livestream 20210927T161500
X-WR-TIMEZONE:America/New_York
X-WR-CALNAME:BayAreaScience.org
BEGIN:VEVENT
URL;VALUE=URI:https://www.bayareascience.org/calendar/index.php?com=detail&eID=31078
DTSTART:20210927T161500
DTEND:20210927T171500
SUMMARY: Characterizing mesoscopic antiferromagnetic domains in the dilute limit with coherent x-ray diffraction - Livestream
DESCRIPTION:Studies of light and matter interactions in the x-ray regime have long been instrumental to theÂ advancementÂ of condensed matter physics\, lifted by synchrotron radiation sources that deliver...\n______________________________\nThis Event Downloaded From a Helios Calendar Powered Site
LOCATION:UC Berkeley -  \, \, CA  
CATEGORIES:BayAreaScience.org Events
PRIORITY:0
TRANSP:TRANSPARENT
END:VEVENT
END:VCALENDAR