BEGIN:VCALENDAR
VERSION:2.0
METHOD:PUBLISH
CALSCALE:GREGORIAN
PRODID:-//Refresh Web Development//Helios Calendar//EN
X-FROM-URL:https://www.bayareascience.org/calendar/index.php?com=details&eID=31079
X-WR-RELCALID:BayAreaScience.org Node-Pore Sensing: How a (Humble) Four-Terminal Measurement Can Measure the Mechanical Properties of Single Cells - Livestream 20211004T161500
X-WR-TIMEZONE:America/New_York
X-WR-CALNAME:BayAreaScience.org
BEGIN:VEVENT
URL;VALUE=URI:https://www.bayareascience.org/calendar/index.php?com=detail&eID=31079
DTSTART:20211004T161500
DTEND:20211004T171500
SUMMARY:Node-Pore Sensing: How a (Humble) Four-Terminal Measurement Can Measure the Mechanical Properties of Single Cells - Livestream
DESCRIPTION:We have developed an electronic method to screen cells for their phenotypic profile\, which we call Node-Pore Sensing (NPS). Â NPS involves using a four-terminal measurement to measure the modulated...\n______________________________\nThis Event Downloaded From a Helios Calendar Powered Site
LOCATION:UC Berkeley -  \, \, CA  
CATEGORIES:BayAreaScience.org Events
PRIORITY:0
TRANSP:TRANSPARENT
END:VEVENT
END:VCALENDAR