BEGIN:VCALENDAR
VERSION:2.0
METHOD:PUBLISH
CALSCALE:GREGORIAN
PRODID:-//Refresh Web Development//Helios Calendar//EN
X-FROM-URL:https://www.bayareascience.org/calendar/index.php?com=details&eID=31080
X-WR-RELCALID:BayAreaScience.org Can a solid-state quantum simulator help us understand materials? - Livestream 20211018T161500
X-WR-TIMEZONE:America/New_York
X-WR-CALNAME:BayAreaScience.org
BEGIN:VEVENT
URL;VALUE=URI:https://www.bayareascience.org/calendar/index.php?com=detail&eID=31080
DTSTART:20211018T161500
DTEND:20211018T171500
SUMMARY:Can a solid-state quantum simulator help us understand materials? - Livestream
DESCRIPTION:WhenÂ Feynman suggested quantum-based computers in the '80s\, he wasn't primarily thinking of the general-purpose quantum computers intensely pursued today at Berkeley and worldwide. Rather he...\n______________________________\nThis Event Downloaded From a Helios Calendar Powered Site
LOCATION:UC Berkeley -  \, \, CA  
CATEGORIES:BayAreaScience.org Events
PRIORITY:0
TRANSP:TRANSPARENT
END:VEVENT
END:VCALENDAR