BEGIN:VCALENDAR
VERSION:2.0
METHOD:PUBLISH
CALSCALE:GREGORIAN
PRODID:-//Refresh Web Development//Helios Calendar//EN
X-FROM-URL:https://www.bayareascience.org/calendar/index.php?com=details&eID=31081
X-WR-RELCALID:BayAreaScience.org Exploring the Unexplored: Searching for Dark Matter in the mass range from 10meV-1GeV - Livestream 20211108T161500
X-WR-TIMEZONE:America/New_York
X-WR-CALNAME:BayAreaScience.org
BEGIN:VEVENT
URL;VALUE=URI:https://www.bayareascience.org/calendar/index.php?com=detail&eID=31081
DTSTART:20211108T161500
DTEND:20211108T171500
SUMMARY:Exploring the Unexplored: Searching for Dark Matter in the mass range from 10meV-1GeV - Livestream
DESCRIPTION:Substantial astronomical observations have established that approximately 25% of the energy density of the universe is composed of cold non-baryonic dark matter\, whose detection and characterization...\n______________________________\nThis Event Downloaded From a Helios Calendar Powered Site
LOCATION:UC Berkeley -  \, \, CA  
CATEGORIES:BayAreaScience.org Events
PRIORITY:0
TRANSP:TRANSPARENT
END:VEVENT
END:VCALENDAR