BEGIN:VCALENDAR
VERSION:2.0
METHOD:PUBLISH
CALSCALE:GREGORIAN
PRODID:-//Refresh Web Development//Helios Calendar//EN
X-FROM-URL:https://www.bayareascience.org/calendar/index.php?com=details&eID=31097
X-WR-RELCALID:BayAreaScience.org Are Viruses Alive? - Livestream 20210826T110000
X-WR-TIMEZONE:America/New_York
X-WR-CALNAME:BayAreaScience.org
BEGIN:VEVENT
URL;VALUE=URI:https://www.bayareascience.org/calendar/index.php?com=detail&eID=31097
DTSTART:20210826T110000
DTEND:20210826T123000
SUMMARY:Are Viruses Alive? - Livestream
DESCRIPTION:Countless scientists around the world study life\, and yet they can't really agree on what it is. Are viruses alive\, for example\, or are they lifeless packages of protein and nucleic acid? Join...\n______________________________\nThis Event Downloaded From a Helios Calendar Powered Site
LOCATION:The Royal Institution -  \, \, CA  
CATEGORIES:BayAreaScience.org Events
PRIORITY:0
TRANSP:TRANSPARENT
END:VEVENT
END:VCALENDAR