BEGIN:VCALENDAR
VERSION:2.0
METHOD:PUBLISH
CALSCALE:GREGORIAN
PRODID:-//Refresh Web Development//Helios Calendar//EN
X-FROM-URL:https://www.bayareascience.org/calendar/index.php?com=details&eID=31099
X-WR-RELCALID:BayAreaScience.org Effects of pharmaceuticals in aquatic environments - bridging the gap between lab and field  - Livestream 20210824T093000
X-WR-TIMEZONE:America/New_York
X-WR-CALNAME:BayAreaScience.org
BEGIN:VEVENT
URL;VALUE=URI:https://www.bayareascience.org/calendar/index.php?com=detail&eID=31099
DTSTART:20210824T093000
DTEND:20210824T113000
SUMMARY:Effects of pharmaceuticals in aquatic environments - bridging the gap between lab and field  - Livestream
DESCRIPTION:Humans consume more pharmaceuticals than ever\, and consumption is set to rise. The rise in demand has resulted in an increase in the quantity and diversity of pharmaceutical contaminants being...\n______________________________\nThis Event Downloaded From a Helios Calendar Powered Site
LOCATION:Environment Protection Authority Victoria -  \, \, CA  
CATEGORIES:BayAreaScience.org Events
PRIORITY:0
TRANSP:TRANSPARENT
END:VEVENT
END:VCALENDAR