BEGIN:VCALENDAR
VERSION:2.0
METHOD:PUBLISH
CALSCALE:GREGORIAN
PRODID:-//Refresh Web Development//Helios Calendar//EN
X-FROM-URL:https://www.bayareascience.org/calendar/index.php?com=details&eID=31106
X-WR-RELCALID:BayAreaScience.org A History of Civilization in Twelve Clocks - Livestream 20210909T123000
X-WR-TIMEZONE:America/New_York
X-WR-CALNAME:BayAreaScience.org
BEGIN:VEVENT
URL;VALUE=URI:https://www.bayareascience.org/calendar/index.php?com=detail&eID=31106
DTSTART:20210909T123000
DTEND:20210909T123000
SUMMARY:A History of Civilization in Twelve Clocks - Livestream
DESCRIPTION:How...\n______________________________\nThis Event Downloaded From a Helios Calendar Powered Site
LOCATION:Long Now Foundation -  \, \, CA  
CATEGORIES:BayAreaScience.org Events
PRIORITY:0
TRANSP:TRANSPARENT
END:VEVENT
END:VCALENDAR