BEGIN:VCALENDAR
VERSION:2.0
METHOD:PUBLISH
CALSCALE:GREGORIAN
PRODID:-//Refresh Web Development//Helios Calendar//EN
X-FROM-URL:https://www.bayareascience.org/calendar/index.php?com=details&eID=31107
X-WR-RELCALID:BayAreaScience.org Science Sundays: Recovery of Sea Otters in the Northeast Pacific: New Insights and Surprises from Soft-Bottom Ecosystems - Livestream 20210919T133000
X-WR-TIMEZONE:America/New_York
X-WR-CALNAME:BayAreaScience.org
BEGIN:VEVENT
URL;VALUE=URI:https://www.bayareascience.org/calendar/index.php?com=detail&eID=31107
DTSTART:20210919T133000
DTEND:20210919T143000
SUMMARY:Science Sundays: Recovery of Sea Otters in the Northeast Pacific: New Insights and Surprises from Soft-Bottom Ecosystems - Livestream
DESCRIPTION:Sea otters...\n______________________________\nThis Event Downloaded From a Helios Calendar Powered Site
LOCATION:Seymour Science Center -  \, \, CA  
CATEGORIES:BayAreaScience.org Events
PRIORITY:0
TRANSP:TRANSPARENT
END:VEVENT
END:VCALENDAR