BEGIN:VCALENDAR
VERSION:2.0
METHOD:PUBLISH
CALSCALE:GREGORIAN
PRODID:-//Refresh Web Development//Helios Calendar//EN
X-FROM-URL:https://www.bayareascience.org/calendar/index.php?com=details&eID=31113
X-WR-RELCALID:BayAreaScience.org  Hints About the Earliest Galaxies  20210916T124000
X-WR-TIMEZONE:America/New_York
X-WR-CALNAME:BayAreaScience.org
BEGIN:VEVENT
URL;VALUE=URI:https://www.bayareascience.org/calendar/index.php?com=detail&eID=31113
DTSTART:20210916T124000
DTEND:20210916T124000
SUMMARY: Hints About the Earliest Galaxies 
DESCRIPTION:The Cosmic Dawn - the era when the first stars and galaxies formed - is one of the frontiers of extragalactic astrophysics. In this talk\, I will describe how surprisingly simple models of galaxy...\n______________________________\nThis Event Downloaded From a Helios Calendar Powered Site
LOCATION:Campbell Hall\, Rm 131 A - UC Berkeley \, Berkeley\, CA USA 94720
CATEGORIES:BayAreaScience.org Events
PRIORITY:0
TRANSP:TRANSPARENT
END:VEVENT
END:VCALENDAR