BEGIN:VCALENDAR
VERSION:2.0
METHOD:PUBLISH
CALSCALE:GREGORIAN
PRODID:-//Refresh Web Development//Helios Calendar//EN
X-FROM-URL:https://www.bayareascience.org/calendar/index.php?com=details&eID=31135
X-WR-RELCALID:BayAreaScience.org Is There Life on Mars - Livestream 20210825T180000
X-WR-TIMEZONE:America/New_York
X-WR-CALNAME:BayAreaScience.org
BEGIN:VEVENT
URL;VALUE=URI:https://www.bayareascience.org/calendar/index.php?com=detail&eID=31135
DTSTART:20210825T180000
DTEND:20210825T190000
SUMMARY:Is There Life on Mars - Livestream
DESCRIPTION:Four panelists (Andrew Shumway\, Yuk Chun Chan\, UW Alumna Dr. Elena Amador-French\, and UW Alumnus Dr. Kenneth Williford) will draw upon their unique research experiences to tackle the mysteries...\n______________________________\nThis Event Downloaded From a Helios Calendar Powered Site
LOCATION:University of Washington Astrobiology -  \, \, CA  
CATEGORIES:BayAreaScience.org Events
PRIORITY:0
TRANSP:TRANSPARENT
END:VEVENT
END:VCALENDAR