BEGIN:VCALENDAR
VERSION:2.0
METHOD:PUBLISH
CALSCALE:GREGORIAN
PRODID:-//Refresh Web Development//Helios Calendar//EN
X-FROM-URL:https://www.bayareascience.org/calendar/index.php?com=details&eID=31158
X-WR-RELCALID:BayAreaScience.org Cosmic rays in star-forming galaxies: transport, feedback, and non-thermal messengers 20211115T140000
X-WR-TIMEZONE:America/New_York
X-WR-CALNAME:BayAreaScience.org
BEGIN:VEVENT
URL;VALUE=URI:https://www.bayareascience.org/calendar/index.php?com=detail&eID=31158
DTSTART:20211115T140000
DTEND:20211115T140000
SUMMARY:Cosmic rays in star-forming galaxies: transport\, feedback\, and non-thermal messengers
DESCRIPTION:Speaker: Mark Krumholz\, Arizona Northern University\n______________________________\nThis Event Downloaded From a Helios Calendar Powered Site
LOCATION:Campbell Hall\, Rm 131 A - UC Berkeley \, Berkeley\, CA USA 94720
CATEGORIES:BayAreaScience.org Events
PRIORITY:0
TRANSP:TRANSPARENT
END:VEVENT
END:VCALENDAR