BEGIN:VCALENDAR
VERSION:2.0
METHOD:PUBLISH
CALSCALE:GREGORIAN
PRODID:-//Refresh Web Development//Helios Calendar//EN
X-FROM-URL:https://www.bayareascience.org/calendar/index.php?com=details&eID=31165
X-WR-RELCALID:BayAreaScience.org Assessing Community Vulnerability to Ocean Acidification Across the California Current System - Livestream 20210915T153000
X-WR-TIMEZONE:America/New_York
X-WR-CALNAME:BayAreaScience.org
BEGIN:VEVENT
URL;VALUE=URI:https://www.bayareascience.org/calendar/index.php?com=detail&eID=31165
DTSTART:20210915T153000
DTEND:20210915T153000
SUMMARY:Assessing Community Vulnerability to Ocean Acidification Across the California Current System - Livestream
DESCRIPTION:Understanding a communityâ€™s...\n______________________________\nThis Event Downloaded From a Helios Calendar Powered Site
LOCATION:Estuary & Ocean Science Center -  \, \, CA  
CATEGORIES:BayAreaScience.org Events
PRIORITY:0
TRANSP:TRANSPARENT
END:VEVENT
END:VCALENDAR