BEGIN:VCALENDAR
VERSION:2.0
METHOD:PUBLISH
CALSCALE:GREGORIAN
PRODID:-//Refresh Web Development//Helios Calendar//EN
X-FROM-URL:https://www.bayareascience.org/calendar/index.php?com=details&eID=31166
X-WR-RELCALID:BayAreaScience.org  Integrating virtual fieldwork, paleontology collections, and visualization tools to enhance geoscience instruction for diverse audience - Livestream 20211027T153000
X-WR-TIMEZONE:America/New_York
X-WR-CALNAME:BayAreaScience.org
BEGIN:VEVENT
URL;VALUE=URI:https://www.bayareascience.org/calendar/index.php?com=detail&eID=31166
DTSTART:20211027T153000
DTEND:20211027T153000
SUMMARY: Integrating virtual fieldwork\, paleontology collections\, and visualization tools to enhance geoscience instruction for diverse audience - Livestream
DESCRIPTION:The extensive fossil holdings and significant online resources at the University of California Museum of Paleontology (UCMP) are accessible through educational websites\, databases\, specimen photographs\,...\n______________________________\nThis Event Downloaded From a Helios Calendar Powered Site
LOCATION:Estuary & Ocean Science Center -  \, \, CA  
CATEGORIES:BayAreaScience.org Events
PRIORITY:0
TRANSP:TRANSPARENT
END:VEVENT
END:VCALENDAR