BEGIN:VCALENDAR
VERSION:2.0
METHOD:PUBLISH
CALSCALE:GREGORIAN
PRODID:-//Refresh Web Development//Helios Calendar//EN
X-FROM-URL:https://www.bayareascience.org/calendar/index.php?com=details&eID=31172
X-WR-RELCALID:BayAreaScience.org 'The Illusion of Knowledge' book launch with Dr. Harold Katcher 20210904T150000
X-WR-TIMEZONE:America/New_York
X-WR-CALNAME:BayAreaScience.org
BEGIN:VEVENT
URL;VALUE=URI:https://www.bayareascience.org/calendar/index.php?com=detail&eID=31172
DTSTART:20210904T150000
DTEND:20210904T170000
SUMMARY:'The Illusion of Knowledge' book launch with Dr. Harold Katcher
DESCRIPTION:Harold Katcher\, the scientist whose treatment of rats led to a 54% reduction in their epigenetic age\, will launch the book â€œThe Illusion of Knowledgeâ€\, in which he explains his theory...\n______________________________\nThis Event Downloaded From a Helios Calendar Powered Site
LOCATION:Book Passage SF - 1 Ferry Building \, San Francisco\, CA  94111
CATEGORIES:BayAreaScience.org Events
PRIORITY:0
TRANSP:TRANSPARENT
END:VEVENT
END:VCALENDAR