BEGIN:VCALENDAR
VERSION:2.0
METHOD:PUBLISH
CALSCALE:GREGORIAN
PRODID:-//Refresh Web Development//Helios Calendar//EN
X-FROM-URL:https://www.bayareascience.org/calendar/index.php?com=details&eID=31181
X-WR-RELCALID:BayAreaScience.org DÃ­a de la IngenierÃ­a/Latinx Engineering Day 2021 20210926T100000
X-WR-TIMEZONE:America/New_York
X-WR-CALNAME:BayAreaScience.org
BEGIN:VEVENT
URL;VALUE=URI:https://www.bayareascience.org/calendar/index.php?com=detail&eID=31181
DTSTART:20210926T100000
DTEND:20210926T170000
SUMMARY:DÃ­a de la IngenierÃ­a/Latinx Engineering Day 2021
DESCRIPTION:Join us for a family-friendly collaboration between the Exploratorium and the Society of Hispanic Professional Engineers (SHPE).Our 22nd annual Latinx Engineering Day/DÃ­a de la IngenierÃ­a...\n______________________________\nThis Event Downloaded From a Helios Calendar Powered Site
LOCATION:ExplOratorium - Pier 15 (Embarcadero at Green Street)  \, San Francisco\, CA USA 94111
CATEGORIES:BayAreaScience.org Events
PRIORITY:0
TRANSP:TRANSPARENT
END:VEVENT
END:VCALENDAR