BEGIN:VCALENDAR
VERSION:2.0
METHOD:PUBLISH
CALSCALE:GREGORIAN
PRODID:-//Refresh Web Development//Helios Calendar//EN
X-FROM-URL:https://www.bayareascience.org/calendar/index.php?com=details&eID=31182
X-WR-RELCALID:BayAreaScience.org  Water for a Growing Bay Area - Livestream 20211021T123000
X-WR-TIMEZONE:America/New_York
X-WR-CALNAME:BayAreaScience.org
BEGIN:VEVENT
URL;VALUE=URI:https://www.bayareascience.org/calendar/index.php?com=detail&eID=31182
DTSTART:20211021T123000
DTEND:20211021T133000
SUMMARY: Water for a Growing Bay Area - Livestream
DESCRIPTION:The Bay Area is projected to add 2.1 million people\, 1.1 million jobs and 660\,000 homes by the year 2040. Subsequently\, the regionâ€™s water use could increase 50% by 2070\, which would be...\n______________________________\nThis Event Downloaded From a Helios Calendar Powered Site
LOCATION:SF Planning + Urban Research Assoc. (SPUR) -  \, \, CA  
CATEGORIES:BayAreaScience.org Events
PRIORITY:0
TRANSP:TRANSPARENT
END:VEVENT
END:VCALENDAR