BEGIN:VCALENDAR
VERSION:2.0
METHOD:PUBLISH
CALSCALE:GREGORIAN
PRODID:-//Refresh Web Development//Helios Calendar//EN
X-FROM-URL:https://www.bayareascience.org/calendar/index.php?com=details&eID=31183
X-WR-RELCALID:BayAreaScience.org  Local Decisions, Regional Impacts: Informing Sea-Level Rise Adaptation - Livestream 20211005T170000
X-WR-TIMEZONE:America/New_York
X-WR-CALNAME:BayAreaScience.org
BEGIN:VEVENT
URL;VALUE=URI:https://www.bayareascience.org/calendar/index.php?com=detail&eID=31183
DTSTART:20211005T170000
DTEND:20211005T180000
SUMMARY: Local Decisions\, Regional Impacts: Informing Sea-Level Rise Adaptation - Livestream
DESCRIPTION:By the year 2100\, the sea level around the Bay Area is projected to rise by nearly seven feet. New research from the Stanford Natural Capital Project illustrates that traditional methods to keep...\n______________________________\nThis Event Downloaded From a Helios Calendar Powered Site
LOCATION:SF Planning + Urban Research Assoc. (SPUR) -  \, \, CA  
CATEGORIES:BayAreaScience.org Events
PRIORITY:0
TRANSP:TRANSPARENT
END:VEVENT
END:VCALENDAR