BEGIN:VCALENDAR
VERSION:2.0
METHOD:PUBLISH
CALSCALE:GREGORIAN
PRODID:-//Refresh Web Development//Helios Calendar//EN
X-FROM-URL:https://www.bayareascience.org/calendar/index.php?com=details&eID=31185
X-WR-RELCALID:BayAreaScience.org Afternoon Walk at Pillar Point Bluff 20210911T163000
X-WR-TIMEZONE:America/New_York
X-WR-CALNAME:BayAreaScience.org
BEGIN:VEVENT
URL;VALUE=URI:https://www.bayareascience.org/calendar/index.php?com=detail&eID=31185
DTSTART:20210911T163000
DTEND:20210911T183000
SUMMARY:Afternoon Walk at Pillar Point Bluff
DESCRIPTION:Join Peninsula Open Space Trust for an afternoon Hike at Pillar Point Bluff just north of Half Moon Bay! You will be guided by a POST representative who will share details...\n______________________________\nThis Event Downloaded From a Helios Calendar Powered Site
LOCATION:Pillar Point Bluff - Airport St \, Half Moon Bay\, CA  
CATEGORIES:BayAreaScience.org Events
PRIORITY:0
TRANSP:TRANSPARENT
END:VEVENT
END:VCALENDAR