BEGIN:VCALENDAR
VERSION:2.0
METHOD:PUBLISH
CALSCALE:GREGORIAN
PRODID:-//Refresh Web Development//Helios Calendar//EN
X-FROM-URL:https://www.bayareascience.org/calendar/index.php?com=details&eID=31193
X-WR-RELCALID:BayAreaScience.org October LASER event - Livestream 20211020T120000
X-WR-TIMEZONE:America/New_York
X-WR-CALNAME:BayAreaScience.org
BEGIN:VEVENT
URL;VALUE=URI:https://www.bayareascience.org/calendar/index.php?com=detail&eID=31193
DTSTART:20211020T120000
DTEND:20211020T120000
SUMMARY:October LASER event - Livestream
DESCRIPTION:Heather Barnett (University of the Arts London) on "Many-headed: Co-creating with the Collective"Clare Stanton (Harvard Law School) on "Linkrot and Content Drift: The Irreversible Decay...\n______________________________\nThis Event Downloaded From a Helios Calendar Powered Site
LOCATION:LASER Leonardo Art Science Evening Rendezvous -  \, \, CA  
CATEGORIES:BayAreaScience.org Events
PRIORITY:0
TRANSP:TRANSPARENT
END:VEVENT
END:VCALENDAR