BEGIN:VCALENDAR
VERSION:2.0
METHOD:PUBLISH
CALSCALE:GREGORIAN
PRODID:-//Refresh Web Development//Helios Calendar//EN
X-FROM-URL:https://www.bayareascience.org/calendar/index.php?com=details&eID=31194
X-WR-RELCALID:BayAreaScience.org Nerd Nite SF #120: LSD Art, Redwoods, and Fish-Mediated Epilepsy Research!  20210915T200000
X-WR-TIMEZONE:America/New_York
X-WR-CALNAME:BayAreaScience.org
BEGIN:VEVENT
URL;VALUE=URI:https://www.bayareascience.org/calendar/index.php?com=detail&eID=31194
DTSTART:20210915T200000
DTEND:20210915T200000
SUMMARY:Nerd Nite SF #120: LSD Art\, Redwoods\, and Fish-Mediated Epilepsy Research! 
DESCRIPTION:The lineup for all you nerds this month is a doozy! Weâ€™ll take a rollercoaster ride through the twists and turns of Mark McCloudâ€™s mind as he tells us stories of his in-home museum...\n______________________________\nThis Event Downloaded From a Helios Calendar Powered Site
LOCATION:Rickshaw Stop - 155 Fell St. @ Van Ness \, San Francisco\, CA  94102
CATEGORIES:BayAreaScience.org Events
PRIORITY:0
TRANSP:TRANSPARENT
END:VEVENT
END:VCALENDAR