BEGIN:VCALENDAR
VERSION:2.0
METHOD:PUBLISH
CALSCALE:GREGORIAN
PRODID:-//Refresh Web Development//Helios Calendar//EN
X-FROM-URL:https://www.bayareascience.org/calendar/index.php?com=details&eID=31200
X-WR-RELCALID:BayAreaScience.org Creating a Brighter, Greener Future for Coyote Valley Together - Livestream 20210930T110000
X-WR-TIMEZONE:America/New_York
X-WR-CALNAME:BayAreaScience.org
BEGIN:VEVENT
URL;VALUE=URI:https://www.bayareascience.org/calendar/index.php?com=detail&eID=31200
DTSTART:20210930T110000
DTEND:20210930T120000
SUMMARY:Creating a Brighter\, Greener Future for Coyote Valley Together - Livestream
DESCRIPTION:How can we work together to create a plan for the future of Coyote Valleyâ€™s conserved lands? Tune in to this webinar to hear from some of the many voices that care about Coyote Valleyâ€™s...\n______________________________\nThis Event Downloaded From a Helios Calendar Powered Site
LOCATION:Peninsula Open Space Trust -  \, \, CA  
CATEGORIES:BayAreaScience.org Events
PRIORITY:0
TRANSP:TRANSPARENT
END:VEVENT
END:VCALENDAR