BEGIN:VCALENDAR
VERSION:2.0
METHOD:PUBLISH
CALSCALE:GREGORIAN
PRODID:-//Refresh Web Development//Helios Calendar//EN
X-FROM-URL:https://www.bayareascience.org/calendar/index.php?com=details&eID=31201
X-WR-RELCALID:BayAreaScience.org Quantum Computing: Theory to Application - Livestream 20210915T190000
X-WR-TIMEZONE:America/New_York
X-WR-CALNAME:BayAreaScience.org
BEGIN:VEVENT
URL;VALUE=URI:https://www.bayareascience.org/calendar/index.php?com=detail&eID=31201
DTSTART:20210915T190000
DTEND:20210915T210000
SUMMARY:Quantum Computing: Theory to Application - Livestream
DESCRIPTION:In recent years\, there has been a substantial amount of research on quantum computers - machines that exploit quantum mechanical phenomena to solve mathematical problems that are difficult or intractable...\n______________________________\nThis Event Downloaded From a Helios Calendar Powered Site
LOCATION:SF Bay Association of Computing Machinery -  \, \, CA  
CATEGORIES:BayAreaScience.org Events
PRIORITY:0
TRANSP:TRANSPARENT
END:VEVENT
END:VCALENDAR