BEGIN:VCALENDAR
VERSION:2.0
METHOD:PUBLISH
CALSCALE:GREGORIAN
PRODID:-//Refresh Web Development//Helios Calendar//EN
X-FROM-URL:https://www.bayareascience.org/calendar/index.php?com=details&eID=31202
X-WR-RELCALID:BayAreaScience.org Deep Learning-Assisted Analysis of Anomalous Nanoparticle Surface Diffusion in Liquid Phase TEM 20210910T140000
X-WR-TIMEZONE:America/New_York
X-WR-CALNAME:BayAreaScience.org
BEGIN:VEVENT
URL;VALUE=URI:https://www.bayareascience.org/calendar/index.php?com=detail&eID=31202
DTSTART:20210910T140000
DTEND:20210910T150000
SUMMARY:Deep Learning-Assisted Analysis of Anomalous Nanoparticle Surface Diffusion in Liquid Phase TEM
DESCRIPTION:Beginning with Robert Brownâ€™s original observation in 1828\, various techniques have been developed to study the hydrodynamics and interactions of particles in solution. These techniques...\n______________________________\nThis Event Downloaded From a Helios Calendar Powered Site
LOCATION:Tan Hall - UC Berkeley Room 180\, Berkeley\, CA  94720
CATEGORIES:BayAreaScience.org Events
PRIORITY:0
TRANSP:TRANSPARENT
END:VEVENT
END:VCALENDAR