BEGIN:VCALENDAR
VERSION:2.0
METHOD:PUBLISH
CALSCALE:GREGORIAN
PRODID:-//Refresh Web Development//Helios Calendar//EN
X-FROM-URL:https://www.bayareascience.org/calendar/index.php?com=details&eID=31214
X-WR-RELCALID:BayAreaScience.org College of San Mateo's Family Science & Astronomy Festival + Makerspace 20210925T120000
X-WR-TIMEZONE:America/New_York
X-WR-CALNAME:BayAreaScience.org
BEGIN:VEVENT
URL;VALUE=URI:https://www.bayareascience.org/calendar/index.php?com=detail&eID=31214
DTSTART:20210925T120000
DTEND:20210925T210000
SUMMARY:College of San Mateo's Family Science & Astronomy Festival + Makerspace
DESCRIPTION:Fall is in the air\, which means College of San Mateo's Virtual Family Science Day is just around the corner!Our annual festival brings the wonders of science to our community....\n______________________________\nThis Event Downloaded From a Helios Calendar Powered Site
LOCATION:College of San Mateo -  \, \, CA  
CATEGORIES:BayAreaScience.org Events
PRIORITY:0
TRANSP:TRANSPARENT
END:VEVENT
END:VCALENDAR