BEGIN:VCALENDAR
VERSION:2.0
METHOD:PUBLISH
CALSCALE:GREGORIAN
PRODID:-//Refresh Web Development//Helios Calendar//EN
X-FROM-URL:https://www.bayareascience.org/calendar/index.php?com=details&eID=31217
X-WR-RELCALID:BayAreaScience.org  Astronomy - From Passion to Profession - Livestream 20210917T193000
X-WR-TIMEZONE:America/New_York
X-WR-CALNAME:BayAreaScience.org
BEGIN:VEVENT
URL;VALUE=URI:https://www.bayareascience.org/calendar/index.php?com=detail&eID=31217
DTSTART:20210917T193000
DTEND:20210917T193000
SUMMARY: Astronomy - From Passion to Profession - Livestream
DESCRIPTION:I will discuss how I turned my passion for astronomy and outreach into a profession. I teach astronomy research seminars to students and educators around the country and the world\, and get to use...\n______________________________\nThis Event Downloaded From a Helios Calendar Powered Site
LOCATION:Tri-Valley Stargazers -  \, \, CA  
CATEGORIES:BayAreaScience.org Events
PRIORITY:0
TRANSP:TRANSPARENT
END:VEVENT
END:VCALENDAR