BEGIN:VCALENDAR
VERSION:2.0
METHOD:PUBLISH
CALSCALE:GREGORIAN
PRODID:-//Refresh Web Development//Helios Calendar//EN
X-FROM-URL:https://www.bayareascience.org/calendar/index.php?com=details&eID=31218
X-WR-RELCALID:BayAreaScience.org  The Secret Body: How the New Science of the Human Body Is Changing the Way We Live - Livestream 20210917T093000
X-WR-TIMEZONE:America/New_York
X-WR-CALNAME:BayAreaScience.org
BEGIN:VEVENT
URL;VALUE=URI:https://www.bayareascience.org/calendar/index.php?com=detail&eID=31218
DTSTART:20210917T093000
DTEND:20210917T103000
SUMMARY: The Secret Body: How the New Science of the Human Body Is Changing the Way We Live - Livestream
DESCRIPTION:In a revolutionary new vision of human biology and the scientific breakthroughs that will transform our lives. Professor Daniel M. Davis shows how radical new possibilities are becoming realities...\n______________________________\nThis Event Downloaded From a Helios Calendar Powered Site
LOCATION:Commonwealth Club - Online Event -  \, \, CA  
CATEGORIES:BayAreaScience.org Events
PRIORITY:0
TRANSP:TRANSPARENT
END:VEVENT
END:VCALENDAR