BEGIN:VCALENDAR
VERSION:2.0
METHOD:PUBLISH
CALSCALE:GREGORIAN
PRODID:-//Refresh Web Development//Helios Calendar//EN
X-FROM-URL:https://www.bayareascience.org/calendar/index.php?com=details&eID=31221
X-WR-RELCALID:BayAreaScience.org Bird-friendly Chocolate 20211007T170000
X-WR-TIMEZONE:America/New_York
X-WR-CALNAME:BayAreaScience.org
BEGIN:VEVENT
URL;VALUE=URI:https://www.bayareascience.org/calendar/index.php?com=detail&eID=31221
DTSTART:20211007T170000
DTEND:20211007T180000
SUMMARY:Bird-friendly Chocolate
DESCRIPTION:Do you love chocolate and are also passionate about bird conservation? Join Sharol-Nelson Embry at this virtual event to learn about bird friendly chocolate harvesting practices such as agroforestry\,...\n______________________________\nThis Event Downloaded From a Helios Calendar Powered Site
LOCATION:San Francisco Bay Bird Observatory -  \, \, CA  
CATEGORIES:BayAreaScience.org Events
PRIORITY:0
TRANSP:TRANSPARENT
END:VEVENT
END:VCALENDAR