BEGIN:VCALENDAR
VERSION:2.0
METHOD:PUBLISH
CALSCALE:GREGORIAN
PRODID:-//Refresh Web Development//Helios Calendar//EN
X-FROM-URL:https://www.bayareascience.org/calendar/index.php?com=details&eID=31223
X-WR-RELCALID:BayAreaScience.org Unraveling soil community dynamics in the face of global change - Livestream 20210927T160000
X-WR-TIMEZONE:America/New_York
X-WR-CALNAME:BayAreaScience.org
BEGIN:VEVENT
URL;VALUE=URI:https://www.bayareascience.org/calendar/index.php?com=detail&eID=31223
DTSTART:20210927T160000
DTEND:20210927T170000
SUMMARY:Unraveling soil community dynamics in the face of global change - Livestream
DESCRIPTION:Dr. Matthew McCary studies the relationship between soil biodiversity and ecosystem functioning within the context of global change. He received his PhD in Ecology and Evolution from the University...\n______________________________\nThis Event Downloaded From a Helios Calendar Powered Site
LOCATION:Stanford University -  \, \, CA  
CATEGORIES:BayAreaScience.org Events
PRIORITY:0
TRANSP:TRANSPARENT
END:VEVENT
END:VCALENDAR