BEGIN:VCALENDAR
VERSION:2.0
METHOD:PUBLISH
CALSCALE:GREGORIAN
PRODID:-//Refresh Web Development//Helios Calendar//EN
X-FROM-URL:https://www.bayareascience.org/calendar/index.php?com=details&eID=31224
X-WR-RELCALID:BayAreaScience.org Innovation, Conservation and Repurposing in Root Cell Type Development - Livestream 20211004T160000
X-WR-TIMEZONE:America/New_York
X-WR-CALNAME:BayAreaScience.org
BEGIN:VEVENT
URL;VALUE=URI:https://www.bayareascience.org/calendar/index.php?com=detail&eID=31224
DTSTART:20211004T160000
DTEND:20211004T170000
SUMMARY:Innovation\, Conservation and Repurposing in Root Cell Type Development - Livestream
DESCRIPTION:Siobhan Brady received her PhD at the University of Toronto in 2005\, and was a Natural Sciences and Engineering Research Council of Canada Postdoctoral Fellow at Duke University from 2005 - 2008.Â ...\n______________________________\nThis Event Downloaded From a Helios Calendar Powered Site
LOCATION:Stanford University -  \, \, CA  
CATEGORIES:BayAreaScience.org Events
PRIORITY:0
TRANSP:TRANSPARENT
END:VEVENT
END:VCALENDAR