BEGIN:VCALENDAR
VERSION:2.0
METHOD:PUBLISH
CALSCALE:GREGORIAN
PRODID:-//Refresh Web Development//Helios Calendar//EN
X-FROM-URL:https://www.bayareascience.org/calendar/index.php?com=details&eID=31226
X-WR-RELCALID:BayAreaScience.org Plastics: How Did We Get Here, and What's Next? 20210917T140000
X-WR-TIMEZONE:America/New_York
X-WR-CALNAME:BayAreaScience.org
BEGIN:VEVENT
URL;VALUE=URI:https://www.bayareascience.org/calendar/index.php?com=detail&eID=31226
DTSTART:20210917T140000
DTEND:20210917T150000
SUMMARY:Plastics: How Did We Get Here\, and What's Next?
DESCRIPTION:Future technologies depend on the development of functional materials having: (1) hierarchical structures spanning multi-length scale down to the molecular level\, (2) built-in functionalities (biological\,...\n______________________________\nThis Event Downloaded From a Helios Calendar Powered Site
LOCATION:Tan Hall - UC Berkeley Room 180\, Berkeley\, CA  94720
CATEGORIES:BayAreaScience.org Events
PRIORITY:0
TRANSP:TRANSPARENT
END:VEVENT
END:VCALENDAR