BEGIN:VCALENDAR
VERSION:2.0
METHOD:PUBLISH
CALSCALE:GREGORIAN
PRODID:-//Refresh Web Development//Helios Calendar//EN
X-FROM-URL:https://www.bayareascience.org/calendar/index.php?com=details&eID=31227
X-WR-RELCALID:BayAreaScience.org Exploiting Automatic Image Processing and In-situ Transmission Electron Microscopy to Understand the Stability of Supported Nanoparticles 20210924T140000
X-WR-TIMEZONE:America/New_York
X-WR-CALNAME:BayAreaScience.org
BEGIN:VEVENT
URL;VALUE=URI:https://www.bayareascience.org/calendar/index.php?com=detail&eID=31227
DTSTART:20210924T140000
DTEND:20210924T150000
SUMMARY:Exploiting Automatic Image Processing and In-situ Transmission Electron Microscopy to Understand the Stability of Supported Nanoparticles
DESCRIPTION:The activity and lifetime of heterogeneous catalysts are intimately linked with their structural stability in reactive environments. However\, it can be challenging to understand and predict how...\n______________________________\nThis Event Downloaded From a Helios Calendar Powered Site
LOCATION:Tan Hall - UC Berkeley Room 180\, Berkeley\, CA  94720
CATEGORIES:BayAreaScience.org Events
PRIORITY:0
TRANSP:TRANSPARENT
END:VEVENT
END:VCALENDAR