BEGIN:VCALENDAR
VERSION:2.0
METHOD:PUBLISH
CALSCALE:GREGORIAN
PRODID:-//Refresh Web Development//Helios Calendar//EN
X-FROM-URL:https://www.bayareascience.org/calendar/index.php?com=details&eID=31234
X-WR-RELCALID:BayAreaScience.org 'The Falconer' - An Online Film Screening 20211105T190000
X-WR-TIMEZONE:America/New_York
X-WR-CALNAME:BayAreaScience.org
BEGIN:VEVENT
URL;VALUE=URI:https://www.bayareascience.org/calendar/index.php?com=detail&eID=31234
DTSTART:20211105T190000
DTEND:20211105T190000
SUMMARY:'The Falconer' - An Online Film Screening
DESCRIPTION:Join Peninsula Open Space Trust for a special free online screening of â€œThe Falconerâ€in honor of the Fall Raptor Migration Season! The event is free but registration is required....\n______________________________\nThis Event Downloaded From a Helios Calendar Powered Site
LOCATION:Peninsula Open Space Trust -  \, \, CA  
CATEGORIES:BayAreaScience.org Events
PRIORITY:0
TRANSP:TRANSPARENT
END:VEVENT
END:VCALENDAR