BEGIN:VCALENDAR
VERSION:2.0
METHOD:PUBLISH
CALSCALE:GREGORIAN
PRODID:-//Refresh Web Development//Helios Calendar//EN
X-FROM-URL:https://www.bayareascience.org/calendar/index.php?com=details&eID=31239
X-WR-RELCALID:BayAreaScience.org Building Earth Structures from Earthquakes: Understanding Deformation within the Santa Cruz Mountains Across Space and Time - Livestream 20211022T120000
X-WR-TIMEZONE:America/New_York
X-WR-CALNAME:BayAreaScience.org
BEGIN:VEVENT
URL;VALUE=URI:https://www.bayareascience.org/calendar/index.php?com=detail&eID=31239
DTSTART:20211022T120000
DTEND:20211022T120000
SUMMARY:Building Earth Structures from Earthquakes: Understanding Deformation within the Santa Cruz Mountains Across Space and Time - Livestream
DESCRIPTION:How do earthquakes build mountains and geologic structures? This is an important fundamental question in earth sciences that has implications for hazards posed by motion along active faults. In...\n______________________________\nThis Event Downloaded From a Helios Calendar Powered Site
LOCATION:Earth and Marine Sciences Building - UC Santa Cruz Room A340\, Santa Cruz\, CA  95064
CATEGORIES:BayAreaScience.org Events
PRIORITY:0
TRANSP:TRANSPARENT
END:VEVENT
END:VCALENDAR