BEGIN:VCALENDAR
VERSION:2.0
METHOD:PUBLISH
CALSCALE:GREGORIAN
PRODID:-//Refresh Web Development//Helios Calendar//EN
X-FROM-URL:https://www.bayareascience.org/calendar/index.php?com=details&eID=31254
X-WR-RELCALID:BayAreaScience.org  A New Era of Experiential Medicine: From Video Games to Psychedelics 20210922T173000
X-WR-TIMEZONE:America/New_York
X-WR-CALNAME:BayAreaScience.org
BEGIN:VEVENT
URL;VALUE=URI:https://www.bayareascience.org/calendar/index.php?com=detail&eID=31254
DTSTART:20210922T173000
DTEND:20210922T190000
SUMMARY: A New Era of Experiential Medicine: From Video Games to Psychedelics
DESCRIPTION:A fundamental challenge of our health-care system is the enhancement of cognition for millions of people who suffer from psychiatric and neurological conditions. Despite 70 years of global effort...\n______________________________\nThis Event Downloaded From a Helios Calendar Powered Site
LOCATION:Commonwealth Club - 110 The Embarcadero \, San Francisco\, CA  94105
CATEGORIES:BayAreaScience.org Events
PRIORITY:0
TRANSP:TRANSPARENT
END:VEVENT
END:VCALENDAR