BEGIN:VCALENDAR
VERSION:2.0
METHOD:PUBLISH
CALSCALE:GREGORIAN
PRODID:-//Refresh Web Development//Helios Calendar//EN
X-FROM-URL:https://www.bayareascience.org/calendar/index.php?com=details&eID=31255
X-WR-RELCALID:BayAreaScience.org Perfect Storm: Climate Change in Asia - Livestream 20210928T170000
X-WR-TIMEZONE:America/New_York
X-WR-CALNAME:BayAreaScience.org
BEGIN:VEVENT
URL;VALUE=URI:https://www.bayareascience.org/calendar/index.php?com=detail&eID=31255
DTSTART:20210928T170000
DTEND:20210928T180000
SUMMARY:Perfect Storm: Climate Change in Asia - Livestream
DESCRIPTION:The Asia-Pacific region is the worldâ€™s most vulnerable region to climate change risks. With its densely populated low-lying territories and high dependence on natural resources and agriculture...\n______________________________\nThis Event Downloaded From a Helios Calendar Powered Site
LOCATION:Stanford University -  \, \, CA  
CATEGORIES:BayAreaScience.org Events
PRIORITY:0
TRANSP:TRANSPARENT
END:VEVENT
END:VCALENDAR