BEGIN:VCALENDAR
VERSION:2.0
METHOD:PUBLISH
CALSCALE:GREGORIAN
PRODID:-//Refresh Web Development//Helios Calendar//EN
X-FROM-URL:https://www.bayareascience.org/calendar/index.php?com=details&eID=31258
X-WR-RELCALID:BayAreaScience.org Microscopic evidence for a chiral superconducting order parameter in the heavy fermion superconductor UTe2  - Livestream 20210914T143000
X-WR-TIMEZONE:America/New_York
X-WR-CALNAME:BayAreaScience.org
BEGIN:VEVENT
URL;VALUE=URI:https://www.bayareascience.org/calendar/index.php?com=detail&eID=31258
DTSTART:20210914T143000
DTEND:20210914T143000
SUMMARY:Microscopic evidence for a chiral superconducting order parameter in the heavy fermion superconductor UTe2  - Livestream
DESCRIPTION:Topological superconductors represent a fundamentally new phase of matter. Similar to topological insulators\, the non-trivial topological characteristics of a topological superconductor dictate...\n______________________________\nThis Event Downloaded From a Helios Calendar Powered Site
LOCATION:UC Berkeley Condensed Matter Physics Seminar -  \, \, CA  
CATEGORIES:BayAreaScience.org Events
PRIORITY:0
TRANSP:TRANSPARENT
END:VEVENT
END:VCALENDAR