BEGIN:VCALENDAR
VERSION:2.0
METHOD:PUBLISH
CALSCALE:GREGORIAN
PRODID:-//Refresh Web Development//Helios Calendar//EN
X-FROM-URL:https://www.bayareascience.org/calendar/index.php?com=details&eID=31259
X-WR-RELCALID:BayAreaScience.org Ultrafast Domain Wall Dynamics in Metallic and Insulating Ferrimagnets  - Livestream 20210928T143000
X-WR-TIMEZONE:America/New_York
X-WR-CALNAME:BayAreaScience.org
BEGIN:VEVENT
URL;VALUE=URI:https://www.bayareascience.org/calendar/index.php?com=detail&eID=31259
DTSTART:20210928T143000
DTEND:20210928T143000
SUMMARY:Ultrafast Domain Wall Dynamics in Metallic and Insulating Ferrimagnets  - Livestream
DESCRIPTION:A promising approach to encode bits of information for next-generation memory and logic is by using solitons\, such as chiral domain walls (DW) or topological skyrmions\, which can be translated...\n______________________________\nThis Event Downloaded From a Helios Calendar Powered Site
LOCATION:UC Berkeley Condensed Matter Physics Seminar -  \, \, CA  
CATEGORIES:BayAreaScience.org Events
PRIORITY:0
TRANSP:TRANSPARENT
END:VEVENT
END:VCALENDAR