BEGIN:VCALENDAR
VERSION:2.0
METHOD:PUBLISH
CALSCALE:GREGORIAN
PRODID:-//Refresh Web Development//Helios Calendar//EN
X-FROM-URL:https://www.bayareascience.org/calendar/index.php?com=details&eID=31260
X-WR-RELCALID:BayAreaScience.org Study on Topological Spin Textures utilizing Full-Field Soft X-ray Microscopy  - Livestream 20211005T143000
X-WR-TIMEZONE:America/New_York
X-WR-CALNAME:BayAreaScience.org
BEGIN:VEVENT
URL;VALUE=URI:https://www.bayareascience.org/calendar/index.php?com=detail&eID=31260
DTSTART:20211005T143000
DTEND:20211005T143000
SUMMARY:Study on Topological Spin Textures utilizing Full-Field Soft X-ray Microscopy  - Livestream
DESCRIPTION:Magnetic skyrmions are topologically stable spin textures\, which have attracted massive interests not only due to their fascinating features for understanding the fundamental physics of nanospin...\n______________________________\nThis Event Downloaded From a Helios Calendar Powered Site
LOCATION:UC Berkeley Condensed Matter Physics Seminar -  \, \, CA  
CATEGORIES:BayAreaScience.org Events
PRIORITY:0
TRANSP:TRANSPARENT
END:VEVENT
END:VCALENDAR