BEGIN:VCALENDAR
VERSION:2.0
METHOD:PUBLISH
CALSCALE:GREGORIAN
PRODID:-//Refresh Web Development//Helios Calendar//EN
X-FROM-URL:https://www.bayareascience.org/calendar/index.php?com=details&eID=31266
X-WR-RELCALID:BayAreaScience.org MoirÃ© superlattices: a new Hubbard model simulator  - Livestream 20211123T143000
X-WR-TIMEZONE:America/New_York
X-WR-CALNAME:BayAreaScience.org
BEGIN:VEVENT
URL;VALUE=URI:https://www.bayareascience.org/calendar/index.php?com=detail&eID=31266
DTSTART:20211123T143000
DTEND:20211123T143000
SUMMARY:MoirÃ© superlattices: a new Hubbard model simulator  - Livestream
DESCRIPTION:The Hubbard model\, first formulated by physicist John Hubbard in the 1960s\, is a simple theoretical model of interacting quantum particles in a lattice. The model is thought to capture the essential...\n______________________________\nThis Event Downloaded From a Helios Calendar Powered Site
LOCATION:UC Berkeley Condensed Matter Physics Seminar -  \, \, CA  
CATEGORIES:BayAreaScience.org Events
PRIORITY:0
TRANSP:TRANSPARENT
END:VEVENT
END:VCALENDAR