BEGIN:VCALENDAR
VERSION:2.0
METHOD:PUBLISH
CALSCALE:GREGORIAN
PRODID:-//Refresh Web Development//Helios Calendar//EN
X-FROM-URL:https://www.bayareascience.org/calendar/index.php?com=details&eID=31267
X-WR-RELCALID:BayAreaScience.org Coherent AC spin current transmission through antiferromagnetic CoO probed by X-ray detected ferromagnetic resonance  - Livestream 20211130T143000
X-WR-TIMEZONE:America/New_York
X-WR-CALNAME:BayAreaScience.org
BEGIN:VEVENT
URL;VALUE=URI:https://www.bayareascience.org/calendar/index.php?com=detail&eID=31267
DTSTART:20211130T143000
DTEND:20211130T143000
SUMMARY:Coherent AC spin current transmission through antiferromagnetic CoO probed by X-ray detected ferromagnetic resonance  - Livestream
DESCRIPTION:For decades\, ferromagnetic materials have dominated the field of information technology. Recently\, however\, there has been a boost of new research in antiferromagnetic (AFM) materials. While these...\n______________________________\nThis Event Downloaded From a Helios Calendar Powered Site
LOCATION:UC Berkeley Condensed Matter Physics Seminar -  \, \, CA  
CATEGORIES:BayAreaScience.org Events
PRIORITY:0
TRANSP:TRANSPARENT
END:VEVENT
END:VCALENDAR