BEGIN:VCALENDAR
VERSION:2.0
METHOD:PUBLISH
CALSCALE:GREGORIAN
PRODID:-//Refresh Web Development//Helios Calendar//EN
X-FROM-URL:https://www.bayareascience.org/calendar/index.php?com=details&eID=31273
X-WR-RELCALID:BayAreaScience.org Tech for Humanity Changemakers 20211019T110000
X-WR-TIMEZONE:America/New_York
X-WR-CALNAME:BayAreaScience.org
BEGIN:VEVENT
URL;VALUE=URI:https://www.bayareascience.org/calendar/index.php?com=detail&eID=31273
DTSTART:20211019T110000
DTEND:20211019T110000
SUMMARY:Tech for Humanity Changemakers
DESCRIPTION:Meet the first-ever CHM Patrick J. McGovern Tech For Humanity Prize Changemakers and learn about what theyâ€™re doing to make the world a better place.Growing up in Ghana\, Mercy Nyamewaa...\n______________________________\nThis Event Downloaded From a Helios Calendar Powered Site
LOCATION:Computer History Museum -  \, \, CA  
CATEGORIES:BayAreaScience.org Events
PRIORITY:0
TRANSP:TRANSPARENT
END:VEVENT
END:VCALENDAR