BEGIN:VCALENDAR
VERSION:2.0
METHOD:PUBLISH
CALSCALE:GREGORIAN
PRODID:-//Refresh Web Development//Helios Calendar//EN
X-FROM-URL:https://www.bayareascience.org/calendar/index.php?com=details&eID=31277
X-WR-RELCALID:BayAreaScience.org Fear of a Black Universe - Livestream 20210924T140000
X-WR-TIMEZONE:America/New_York
X-WR-CALNAME:BayAreaScience.org
BEGIN:VEVENT
URL;VALUE=URI:https://www.bayareascience.org/calendar/index.php?com=detail&eID=31277
DTSTART:20210924T140000
DTEND:20210924T150000
SUMMARY:Fear of a Black Universe - Livestream
DESCRIPTION:Join us for a conversation...\n______________________________\nThis Event Downloaded From a Helios Calendar Powered Site
LOCATION:Commonwealth Club - Online Event -  \, \, CA  
CATEGORIES:BayAreaScience.org Events
PRIORITY:0
TRANSP:TRANSPARENT
END:VEVENT
END:VCALENDAR