BEGIN:VCALENDAR
VERSION:2.0
METHOD:PUBLISH
CALSCALE:GREGORIAN
PRODID:-//Refresh Web Development//Helios Calendar//EN
X-FROM-URL:https://www.bayareascience.org/calendar/index.php?com=details&eID=31278
X-WR-RELCALID:BayAreaScience.org Large Scale Structure Beyond the 2-Point Function - Livestream 20210920T140000
X-WR-TIMEZONE:America/New_York
X-WR-CALNAME:BayAreaScience.org
BEGIN:VEVENT
URL;VALUE=URI:https://www.bayareascience.org/calendar/index.php?com=detail&eID=31278
DTSTART:20210920T140000
DTEND:20210920T150000
SUMMARY:Large Scale Structure Beyond the 2-Point Function - Livestream
DESCRIPTION:According to the standard paradigm\, inflation seeded the primordial Universe with density perturbations that are adiabatic and Gaussian distributed. In this limit\, all the information is contained...\n______________________________\nThis Event Downloaded From a Helios Calendar Powered Site
LOCATION:Varian Physics Building - 382 Via Pueblo Mall Room 355\, Stanford\, CA  94305
CATEGORIES:BayAreaScience.org Events
PRIORITY:0
TRANSP:TRANSPARENT
END:VEVENT
END:VCALENDAR