BEGIN:VCALENDAR
VERSION:2.0
METHOD:PUBLISH
CALSCALE:GREGORIAN
PRODID:-//Refresh Web Development//Helios Calendar//EN
X-FROM-URL:https://www.bayareascience.org/calendar/index.php?com=details&eID=31280
X-WR-RELCALID:BayAreaScience.org Finding a path towards a molecular theory of nonequilibrium systems 20210921T160000
X-WR-TIMEZONE:America/New_York
X-WR-CALNAME:BayAreaScience.org
BEGIN:VEVENT
URL;VALUE=URI:https://www.bayareascience.org/calendar/index.php?com=detail&eID=31280
DTSTART:20210921T160000
DTEND:20210921T170000
SUMMARY:Finding a path towards a molecular theory of nonequilibrium systems
DESCRIPTION:In this talk\, I will discuss some recent efforts to develop a set of theoretical and simulation tools to study molecular systems driven away from equilibrium. This work leverages recent advancements...\n______________________________\nThis Event Downloaded From a Helios Calendar Powered Site
LOCATION:Latimer Hall - UC Berkeley Room 120\, Berkeley\, CA  94720
CATEGORIES:BayAreaScience.org Events
PRIORITY:0
TRANSP:TRANSPARENT
END:VEVENT
END:VCALENDAR