BEGIN:VCALENDAR
VERSION:2.0
METHOD:PUBLISH
CALSCALE:GREGORIAN
PRODID:-//Refresh Web Development//Helios Calendar//EN
X-FROM-URL:https://www.bayareascience.org/calendar/index.php?com=details&eID=31281
X-WR-RELCALID:BayAreaScience.org Harmful cyanobacteria blooms in upper San Francisco Estuary since 2004: What we know based on 15 years of field and laboratory research - Livestream 20210929T153000
X-WR-TIMEZONE:America/New_York
X-WR-CALNAME:BayAreaScience.org
BEGIN:VEVENT
URL;VALUE=URI:https://www.bayareascience.org/calendar/index.php?com=detail&eID=31281
DTSTART:20210929T153000
DTEND:20210929T153000
SUMMARY:Harmful cyanobacteria blooms in upper San Francisco Estuary since 2004: What we know based on 15 years of field and laboratory research - Livestream
DESCRIPTION:Toxic cyanobacteria have bloomed in the upper San Francisco Estuary since 1999. The initial blooms were small and locally abundant. Today these blooms stretch across the upper estuary and can reach...\n______________________________\nThis Event Downloaded From a Helios Calendar Powered Site
LOCATION:Estuary & Ocean Science Center -  \, \, CA  
CATEGORIES:BayAreaScience.org Events
PRIORITY:0
TRANSP:TRANSPARENT
END:VEVENT
END:VCALENDAR